Workbook

Sheet Table of Contents
A1: Table Code | B1: SDAT | C1: Ekvivalent mapování v SDNS
A2: S.01.02.01.01 | B2: Basic Information - General | C2: Mapování na ZISS16_11
A3: S.02.02.01.01 | B3: All currencies | C3: Mapování na ROSS16_12 | D3: DDP
A4: S.02.02.01.02 | B4: Material currencies | C4: Mapování na ROSS16_11
A5: S.03.01.01.01 | B5: Value of guarantee / collateral / contingent liabilities | C5: Mapování na DISS11_11 část I.
A6: S.03.01.01.02 | B6: Value of guaranteed assets and liabilities | C6: Mapování na DISS11_11 část II.
A7: S.03.02.01.01 | B7: List of unlimited guarantees received by the undertaking | C7: Mapování na DISS16_11
A8: S.03.03.01.01 | B8: List of unlimited guarantees provided by the undertaking | C8: Mapování na DISS21_11
A9: S.04.01.01.01 | B9: Undertaking and all branches | C9: Mapování na DISS26_11
A10: S.04.01.01.02 | B10: By EEA member (location of the branch) | C10: Mapování na DISS26_12 ( část I.)
A11: S.04.01.01.03 | B11: By EEA member (localization of activity [based on place of underwriting]) | C11: Mapování na DISS26_12 ( část II.)
A12: S.04.01.01.04 | B12: By material non-EEA member | C12: Mapování na DISS26_13
A13: S.04.02.01.01 | B13: Information on class 10 in Part A of Annex I of Solvency II Directive, excluding carrier's liability. Part 1 | C13: Mapování na DISS31_11
A14: S.04.02.01.02 | B14: Information on class 10 in Part A of Annex I of Solvency II Directive, excluding carrier's liability. Part 2 | C14: Mapování na DISS31_21
A15: S.05.01.01.01 | B15: Non-Life (direct business/accepted proportional reinsurance and accepted non-proportional reinsurance) | C15: Mapování na DISS36_11
... A32: S.11.01.01.02 | B32: Information on assets | C32: Mapování na ROSS71_11 - část II.
A33: S.12.01.01.01 | B33: Life and Health SLT Technical Provisions | C33: Mapování na RESS11_11 | D33: DDP
A34: S.12.02.01.01 | B34: Gross TP calculated as a whole and Gross BE for different countries - Home country and countries outside the materiality threshold | C34: Mapování na RESS11_31
A35: S.12.02.01.02 | B35: Gross TP calculated as a whole and Gross BE for different countries - Countries in the materiality threshold | C35: Mapování na RESS11_32
A36: S.13.01.01.01 | B36: Best Estimate - Life | C36: Mapování na RESS16_11
A37: S.14.01.01.01 | B37: Portfolio | C37: Mapování na RESS21_11
A38: S.14.01.01.02 | B38: Characteristics of product | C38: Mapování na RESS21_21
A39: S.14.01.01.03 | B39: Information on Homogeneous risk groups | C39: Mapování na RESS21_31
A40: S.14.01.01.04 | B40: Information on products and homogeneous risk groups | C40: Mapování na RESS21_31
A41: S.16.01.01.01 | B41: Information on year N: | C41: Mapování na RESS36_11 část I.
A42: S.16.01.01.02 | B42: Annuities information | C42: Mapování na RESS36_11 část II.
A43: S.17.01.01.01 | B43: Non-Life Technical Provisions | C43: Mapování na RESS41_11 & RESS41_12 &RESS41_13& RESS41_22 &RESS41_21
A44: S.17.02.01.01 | B44: Gross TP calculated as a whole and Gross BE for different countries - Home country and countries outside the materiality threshold | C44: Mapování na RESS41_31
A45: S.17.02.01.02 | B45: Gross TP calculated as a whole and Gross BE for different countries - Countries in the materiality threshold | C45: Mapování na RESS41_32
... A216: E.03.01.16.02 | B216: Non-life Technical Provisions - reinsurance policies - By country | C216: Mapování na RESS41_42
A217: Enumerations SDNS_SDAT
A218: Identical datapoint/Sdílené údaje

Sheet SE.01.01.16.01
A1: Zpět na obsah | B1: SE.01.01.16.01 - SE.01.01.16.01 Content of the submission
I2: Legenda | J2: Core oblasti
J3: Ostatní relevantní oblasti
J4: Nerelavantní oblasti
E6: C0010
B7: Template Code - Template name
B8: S.01.02.01 - Basic Information - General | C8: Metric: Basic Information | D8: R0010 | E8: CN:x1 (Reported)
B9: S.01.03.01 - Basic Information - RFF and matching adjustment portfolios | C9: Metric: Basic Information - RFF and matching adjustment portfolios (Full scope individual) | D9: R0020 | E9: CN:x15 (Not reported as no RFF or MAP)
B10: SE.02.01.16 - Balance Sheet | C10: Metric: Balance Sheet (Full scope individual) | D10: ER0030 | E10: CN:x1 (Reported)
B11: S.02.02.01 - Assets and liabilities by currency | C11: Metric: Assets and liabilities by currency [220] | D11: R0040 | E11: CN18
B12: S.03.01.01 - Off-balance sheet items - general | C12: Metric: Off-balance sheet items - general | D12: R0060 | E12: CN20
B13: S.03.02.01 - Off-balance sheet items - List of unlimited guarantees received by the undertaking | C13: Metric: Off-balance sheet items - List of unlimited guarantees received by the undertaking | D13: R0070 | E13: CN34
B14: S.03.03.01 - Off-balance sheet items - List of unlimited guarantees provided by the undertaking | C14: Metric: Off-balance sheet items - List of unlimited guarantees provided by the undertaking | D14: R0080 | E14: CN35
B15: S.04.01.01 - Activity by country | C15: Metric: Activity by country | D15: R0090 | E15: CN36
B16: S.04.02.01 - Information on class 10 in Part A of Annex I of Solvency II Directive, excluding carrier's liability | C16: Metric: Information on class 10 in Part A of Annex I of Solvency II Directive, excluding carrier's liability | D16: R0100 | E16: CN37
B17: S.05.01.01 - Premiums, claims and expenses by line of business | C17: Metric: Premiums, claims and expenses by line of business (Individual)[210] | D17: R0110 | E17: CN113
B18: S.05.02.01 - Premiums, claims and expenses by country | C18: Metric: Premiums, claims and expenses by country [210] | D18: R0120 | E18: CN116
B19: S.06.01.01 - Summary of assets | C19: Metric: Summary of assets | D19: R0130 | E19: CN:x25 (Not due as S.06.02 and S.08.01 reported quarterly)
... B81: E.03.01.16 - Non-life Technical Provisions - reinsurance policies - By country | C81: Metric: Non-life Technical Provisions - reinsurance policies | D81: ER1020 | E81: CN95

Sheet S.01.02.01.01
A1: Zpět na obsah | B1: S.01.02.01.01 - Basic Information - General | G1: Mapování na ZISS16_11 | I1: Převodní můstek číselníky
E4: C0010 | F4: C0010
B5: Undertaking name | C5: si1376 - Metric: String|TS/Legal name of undertaking | D5: R0010 | E5: xbrli_stringItemType | F5: an_250 | G5: ZISS16(1,1)
B6: Undertaking identification code and type of code | C6: si1899 - Metric: String|TS/Undertaking identification code | D6: R0020 | E6: xbrli_stringItemType | F6: R_LEI_EX | G6: ZISS16(2,1)
B7: Type of undertaking | C7: ei2499 - Metric: Type of undertaking [220] | D7: R0040 | E7: SE21 | F7: Z_TYPSII | G7: ZISS16(3,1)
B8: Country of authorisation | C8: ei2453 - Metric: Country of authorisation [210] | D8: R0050 | E8: GA1 | F8: Z_CZ | G8: ZISS16(4,1)
B9: Language of reporting | C9: ei1683 - Metric: Language of reporting | D9: R0070 | E9: LA1 | F9: R_cs | G9: ZISS16(5,1)
B10: Reporting submission date | C10: di1044 - Metric: Date|TD/Reporting date | D10: R0080 | E10: xbrli_dateItemType | F10: d8/YYYY-MM-DD | G10: ZISS16(6,1)
B11: Financial year end | C11: di2502 - Metric: Date|TD/Financial year end | D11: R0081 | E11: xbrli_dateItemType | F11: d8/YYYY-MM-DD | G11: ZISS16(7,1)
B12: Reporting reference date | C12: di1043 - Metric: Date|TD/Reference date | D12: R0090 | E12: xbrli_dateItemType | F12: d8/YYYY-MM-DD | G12: ZISS16(8,1)
B13: Regular/Ad-hoc submission | C13: ei1677 - Metric: Regular/Ad-hoc submission (solo) | D13: R0100 | E13: CS12 | F13: Z_ZPREP | G13: ZISS16(9,1)
B14: Currency used for reporting | C14: ei1930 - Metric: Currency used for reporting (Full scope) | D14: R0110 | E14: CU5 | F14: Z_CZK | G14: ZISS16(10,1)
B15: Accounting standards | C15: ei1687 - Metric: Accounting standards (Full scope) | D15: R0120 | E15: AM11 | F15: Z_US | G15: ZISS16(11,1)
B16: Method of Calculation of the SCR | C16: ei1676 - Metric: Method of Calculation of the SCR | D16: R0130 | E16: AP3 | F16: Z_IM | G16: ZISS16(12,1)
... B22: Transitional measure on technical provisions | C22: ei1682 - Metric: Transitional measure on technical provisions | D22: R0200 | E22: AP7 | F22: D_S_AN1 | G22: ZISS16(18,1)
B23: Initial submission or re-submission | C23: ei1684 - Metric: Initial submission or re-submission | D23: R0210 | E23: CS13 | F23: položka nebyla v SDNS
B24: Exemption of reporting ECAI information | C24: ei2514 - Metric: Exemption of reporting ECAI information | D24: R0250 | E24: CN127 | F24: Z_VYJIMKA | G24: ZISS16(19,1)
B25: Ad hoc XBRL technical field 1 | C25: si2548 - Metric: String|TS/Ad hoc XBRL technical field 1 | D25: R0990 | F25: Nové položky
B26: Ad hoc XBRL technical field 2 | C26: si2549 - Metric: String|TS/Ad hoc XBRL technical field 2 | D26: R0991 | E26: xbrli_stringItemType
B27: Ad hoc XBRL technical field 3 | C27: si2550 - Metric: String|TS/Ad hoc XBRL technical field 3 | D27: R0992 | E27: xbrli_stringItemType

Sheet SE.02.01.16.01
A1: Zpět na obsah | B1: SE.02.01.17.01 - Balance sheet | J1: Mapování na ROSS11_11 a ROSS11_21
G3: *UNITREF=CZK, *DECIMALS=-1
G6: Solvency II value | H6: Statutory accounts | I6: Reclassification adjustments | J6: Solvency II value | K6: Statutory accounts | L6: Reclassification adjustments
G7: VG.x80 - Solvency II | H7: VG.x84 - Statutory accounts | I7: VG.x130 - Reclassification adjustments | J7: P0810 [10] | K7: P0810 [10] | L7: P0810 [13]
G8: C0010 | H8: C0020 | I8: EC0021 | J8: P0810 [10] | K8: P0810 [12] | L8: P0810 [13]
B9: Assets
B10: Goodwill | F10: R0010 | K10: ROSS11_11(2,2)
B11: Deferred acquisition costs | F11: R0020 | K11: ROSS11_11(3,2)
B12: Intangible assets | E12: mi251 - Metric: Monetary|BC/Assets|AS/Intangible other than goodwill and deferred acquisition costs|IO/Other than investment, own use, own instruments held directly and cash and cash equivalents | F12: R0030 | J12: ROSS11_11(4,1) | K12: ROSS11_11(4,2) | L12: ROSS11_11(4,3)
B13: Deferred tax assets | E13: mi222 - Metric: Monetary|BC/Assets|AS/Deferred tax|IO/Other than investment, own use, own instruments held directly and cash and cash equivalents | F13: R0040 | J13: ROSS11_11(5,1) | K13: ROSS11_11(5,2) | L13: ROSS11_11(5,3)
B14: Pension benefit surplus | E14: mi256 - Metric: Monetary|BC/Assets|AS/Pension benefit|IO/Other than investment, own use, own instruments held directly and cash and cash equivalents | F14: R0050 | J14: ROSS11_11(6,1) | K14: ROSS11_11(6,2) | L14: ROSS11_11(6,3)
B15: Property, plant & equipment held for own use | E15: mi266 - Metric: Monetary|BC/Assets|AS/Properties|IO/Own use | F15: R0060 | J15: ROSS11_11(7,1) | K15: ROSS11_11(7,2) | L15: ROSS11_11(7,3)
B16: Investments (other than assets held for index-linked and unit-linked contracts) | D16: mi263 - Metric: Monetary|BC/Assets|AS/Property, plant and equipment, Cash, Derivatives, Bonds, Equity instruments, Participations and related undertakings, Deposits other than reinsurance deposits, Collective investments undertakings, Other investments|IO/Investment | E16: BL.x91 - Neither unit-linked nor index-linked | F16: R0070 | G16: =G17+G18+G19+G22+G27+G28+G29+G30 -> 0 | H16: =H17+H18+H19+H22+H27+H28+H29+H30 -> 0 | I16: =I17+I18+I19+I22+I27+I28+I29+I30 -> 0 | J16: ROSS11_11(8,1) | K16: ROSS11_11(8,2) | L16: ROSS11_11(8,3)
B17: Property (other than for own use) | D17: mi265 - Metric: Monetary|BC/Assets|AS/Properties|IO/Investment | E17: BL.x91 - Neither unit-linked nor index-linked | F17: R0080 | J17: ROSS11_11(9,1) | K17: ROSS11_11(9,2) | L17: ROSS11_11(9,3)
B18: Holdings in related undertakings, including participations | D18: mi243 - Metric: Monetary|BC/Assets|AS/Participations and related undertakings|IO/Investment | E18: BL.x91 - Neither unit-linked nor index-linked | F18: R0090 | J18: ROSS11_11(10,1) | K18: ROSS11_11(10,2) | L18: ROSS11_11(10,3)
B19: Equities | D19: mi238 - Metric: Monetary|BC/Assets|AS/Equity instruments|IO/Investment | E19: BL.x91 - Neither unit-linked nor index-linked | F19: R0100 | G19: =G20+G21 -> 0 | H19: =H20+H21 -> 0 | I19: =I20+I21 -> 0 | J19: ROSS11_11(11,1) | K19: ROSS11_11(11,2) | L19: ROSS11_11(11,3)
B20: Equities - listed | D20: mi226 - Metric: Monetary|BC/Assets|AS/Listed equity|IO/Investment | E20: BL.x91 - Neither unit-linked nor index-linked | F20: R0110 | J20: ROSS11_11(12,1) | K20: ROSS11_11(12,2) | L20: ROSS11_11(12,3)
B21: Equities - unlisted | D21: mi227 - Metric: Monetary|BC/Assets|AS/Unlisted equity|IO/Investment | E21: BL.x91 - Neither unit-linked nor index-linked | F21: R0120 | J21: ROSS11_11(13,1) | K21: ROSS11_11(13,2) | L21: ROSS11_11(13,3)
B22: Bonds | D22: mi213 - Metric: Monetary|BC/Assets|AS/Bonds|IO/Investment | E22: BL.x91 - Neither unit-linked nor index-linked | F22: R0130 | G22: =G23+G24+G25+G26 -> 0 | H22: =H23+H24+H25+H26 -> 0 | I22: =I23+I24+I25+I26 -> 0 | J22: ROSS11_11(14,1) | K22: ROSS11_11(14,2) | L22: ROSS11_11(14,3)
B23: Government Bonds | D23: mi212 - Metric: Monetary|BC/Assets|AS/Government Bonds|IO/Investment | E23: BL.x91 - Neither unit-linked nor index-linked | F23: R0140 | J23: ROSS11_11(15,1) | K23: ROSS11_11(15,2) | L23: ROSS11_11(15,3)
B24: Corporate Bonds | D24: mi211 - Metric: Monetary|BC/Assets|AS/Corporate Bonds|IO/Investment | E24: BL.x91 - Neither unit-linked nor index-linked | F24: R0150 | J24: ROSS11_11(16,1) | K24: ROSS11_11(16,2) | L24: ROSS11_11(16,3)
B25: Structured notes | D25: mi280 - Metric: Monetary|BC/Assets|AS/Structured notes|IO/Investment | E25: BL.x91 - Neither unit-linked nor index-linked | F25: R0160 | J25: ROSS11_11(17,1) | K25: ROSS11_11(17,2) | L25: ROSS11_11(17,3)
B26: Collateralised securities | D26: mi220 - Metric: Monetary|BC/Assets|AS/Collateralised securities|IO/Investment | E26: BL.x91 - Neither unit-linked nor index-linked | F26: R0170 | J26: ROSS11_11(18,1) | K26: ROSS11_11(18,2) | L26: ROSS11_11(18,3)
B27: Collective Investments Undertakings | D27: mi1964 - Metric: Monetary|BC/Assets|AS/Collective investments undertakings|IO/Investment | E27: BL.x91 - Neither unit-linked nor index-linked | F27: R0180 | J27: ROSS11_11(19,1) | K27: ROSS11_11(19,2) | L27: ROSS11_11(19,3)
B28: Derivatives | D28: mi224 - Metric: Monetary|BC/Assets|AS/Derivatives|IO/Investment | E28: BL.x91 - Neither unit-linked nor index-linked | F28: R0190 | J28: ROSS11_11(20,1) | K28: ROSS11_11(20,2) | L28: ROSS11_11(20,3)
B29: Deposits other than cash equivalents | D29: mi223 - Metric: Monetary|BC/Assets|AS/Deposits other than reinsurance deposits|IO/Investment | E29: BL.x91 - Neither unit-linked nor index-linked | F29: R0200 | J29: ROSS11_11(21,1) | K29: ROSS11_11(21,2) | L29: ROSS11_11(21,3)
B30: Other investments | D30: mi1965 - Metric: Monetary|BC/Assets|AS/Other investments|IO/Investment | E30: BL.x91 - Neither unit-linked nor index-linked | F30: R0210 | J30: ROSS11_11(22,1) | K30: ROSS11_11(22,2) | L30: ROSS11_11(22,3)
B31: Assets held for index-linked and unit-linked contracts | D31: mi263 - Metric: Monetary|BC/Assets|AS/Property, plant and equipment, Cash, Derivatives, Bonds, Equity instruments, Participations and related undertakings, Deposits other than reinsurance deposits, Collective investments undertakings, Other investments|IO/Investment | E31: BL.x119 - Unit-linked or index-linked | F31: R0220 | J31: ROSS11_11(23,1) | K31: ROSS11_11(23,2) | L31: ROSS11_11(23,3)
B32: Loans and mortgages | D32: mi252 - Metric: Monetary|BC/Assets|AS/Mortgages and loans|IO/Other than investment, own use, own instruments held directly and cash and cash equivalents | E32: BL.x91 - Neither unit-linked nor index-linked | F32: R0230 | G32: =G33+G34+G35 -> 0 | H32: =H33+H34+H35 -> 0 | I32: =I33+I34+I35 -> 0 | J32: ROSS11_11(24,1) | K32: ROSS11_11(24,2) | L32: ROSS11_11(24,3)
B33: Loans on policies | D33: mi202 - Metric: Monetary|BC/Assets|AS/Loans on policies|IO/Other than investment, own use, own instruments held directly and cash and cash equivalents | E33: BL.x91 - Neither unit-linked nor index-linked | F33: R0240 | J33: ROSS11_11(25,1) | K33: ROSS11_11(25,2) | L33: ROSS11_11(25,3)
B34: Loans and mortgages to individuals | D34: mi203 - Metric: Monetary|BC/Assets|AS/Loans and mortgages to individuals|IO/Other than investment, own use, own instruments held directly and cash and cash equivalents | E34: BL.x91 - Neither unit-linked nor index-linked | F34: R0250 | J34: ROSS11_11(26,1) | K34: ROSS11_11(26,2) | L34: ROSS11_11(26,3)
B35: Other loans and mortgages | D35: mi204 - Metric: Monetary|BC/Assets|AS/Other loans and mortgages|IO/Other than investment, own use, own instruments held directly and cash and cash equivalents | E35: BL.x91 - Neither unit-linked nor index-linked | F35: R0260 | J35: ROSS11_11(27,1) | K35: ROSS11_11(27,2) | L35: ROSS11_11(27,3)
B36: Reinsurance recoverables from: | E36: mi276 - Metric: Monetary|BC/Assets|AS/Recoverables recognised for TP calculation|IO/Other than investment, own use, own instruments held directly and cash and cash equivalents|CC/Ceded | F36: R0270 | G36: =G37+G40+G43 -> 0 | H36: =H37+H40+H43 -> 0 | J36: ROSS11_11(28,1) | K36: ROSS11_11(28,2) | L36: ROSS11_11(28,3)
B37: Non-life and health similar to non-life | D37: mi276 - Metric: Monetary|BC/Assets|AS/Recoverables recognised for TP calculation|IO/Other than investment, own use, own instruments held directly and cash and cash equivalents|CC/Ceded | E37: BL.x79 - Non-life and Health non-SLT | F37: R0280 | G37: =G38+G39 -> 0 | H37: =H38+H39 -> 0 | J37: ROSS11_11(29,1) | K37: ROSS11_11(29,2)
B38: Non-life excluding health | D38: mi276 - Metric: Monetary|BC/Assets|AS/Recoverables recognised for TP calculation|IO/Other than investment, own use, own instruments held directly and cash and cash equivalents|CC/Ceded | E38: BL.x75 - Non-life | F38: R0290 | J38: ROSS11_11(30,1) | K38: ROSS11_11(30,2)
B39: Health similar to non-life | D39: mi276 - Metric: Monetary|BC/Assets|AS/Recoverables recognised for TP calculation|IO/Other than investment, own use, own instruments held directly and cash and cash equivalents|CC/Ceded | E39: BL.x43 - Health non-SLT | F39: R0300 | J39: ROSS11_11(31,1) | K39: ROSS11_11(31,2)
B40: Life and health similar to life, excluding health and index-linked and unit-linked | D40: mi276 - Metric: Monetary|BC/Assets|AS/Recoverables recognised for TP calculation|IO/Other than investment, own use, own instruments held directly and cash and cash equivalents|CC/Ceded | E40: BL.x64 - Life [other than unit-linked or index-linked] | F40: R0310 | G40: =G41+G42 -> 0 | H40: =H41+H42 -> 0 | J40: ROSS11_11(32,1) | K40: ROSS11_11(32,2)
B41: Health similar to life | D41: mi276 - Metric: Monetary|BC/Assets|AS/Recoverables recognised for TP calculation|IO/Other than investment, own use, own instruments held directly and cash and cash equivalents|CC/Ceded | E41: BL.x45 - Health SLT | F41: R0320 | J41: ROSS11_11(33,1) | K41: ROSS11_11(33,2)
B42: Life excluding health and index-linked and unit-linked | D42: mi276 - Metric: Monetary|BC/Assets|AS/Recoverables recognised for TP calculation|IO/Other than investment, own use, own instruments held directly and cash and cash equivalents|CC/Ceded | E42: BL.x63 - Life [other than Index-linked and unit-linked insurance and Health SLT] | F42: R0330 | J42: ROSS11_11(34,1) | K42: ROSS11_11(34,2)
B43: Life index-linked and unit-linked | D43: mi276 - Metric: Monetary|BC/Assets|AS/Recoverables recognised for TP calculation|IO/Other than investment, own use, own instruments held directly and cash and cash equivalents|CC/Ceded | E43: BL.x119 - Unit-linked or index-linked | F43: R0340 | J43: ROSS11_11(35,1) | K43: ROSS11_11(35,2)
...

Sheet S.02.02.01.01
A1: Zpět na obsah | B1: S.02.02.01.01 - All currencies
F2: v datové oblasti se vyskytují identické údaje na jinou oblast | G2: Mapa identických údajů | I2: Mapování na ROSS16_12
D3: Solvency II
F6: Total value of all currencies | G6: Value of the solvency II reporting currency | H6: Value of remaining other currencies | I6: Total value of all currencies | J6: Value of the solvency II reporting currency | K6: Value of remaining other currencies
D7: *DECIMALS=-1 | H7: Not material | K7: Not material
G8: Reporting currency | H8: Other than reporting currency | J8: Reporting currency | K8: Other than reporting currency
F9: C0020 | G9: C0030 | H9: C0040 | I9: C0020 | J9: C0030 | K9: C0040
B10: Assets
B11: Investments (other than assets held for index-linked and unit-linked contracts) | C11: Other investments|IO/Investment | D11: Neither unit-linked nor index-linked | E11: R0020 | F11: =G11+H11+SUM('S.02.02.01.02 '!H11:BE11) -> 0 | I11: ROSS16_12(2,1) | J11: ROSS16_12(2,2) | K11: ROSS16_12(2,4)
B12: Loans & mortgages to individuals and Other loans & mortgages (other than index-linked and unit-linked contracts) | C12: Loans and mortgages|IO/Other than investment | D12: Neither unit-linked nor index-linked | E12: R0030 | F12: =G12+H12+SUM('S.02.02.01.02 '!H12:BE12) -> 0 | I12: ROSS16_12(3,1) | J12: ROSS16_12(3,2) | K12: ROSS16_12(3,4)
B13: Assets held for index-linked and unit-linked contracts | C13: Other investments|IO/Investment | D13: Unit-linked or index-linked | E13: R0040 | F13: =G13+H13+SUM('S.02.02.01.02 '!H13:BE13) -> 0 | I13: ROSS16_12(4,1) | J13: ROSS16_12(4,2) | K13: ROSS16_12(4,4)
B14: Reinsurance recoverables | D14: own instruments held directly and cash and cash equivalents|CC/Ceded | E14: R0050 | F14: =G14+H14+SUM('S.02.02.01.02 '!H14:BE14) -> 0 | I14: ROSS16_12(5,1) | J14: ROSS16_12(5,2) | K14: ROSS16_12(5,4)
B15: insurance and intermediaries receivables and reinsurance receivables | D15: own instruments held directly and cash and cash equivalents | E15: R0060 | F15: =G15+H15+SUM('S.02.02.01.02 '!H15:BE15) -> 0 | I15: ROSS16_12(6,1) | J15: ROSS16_12(6,2) | K15: ROSS16_12(6,4)
B16: Any other assets | D16: cash and cash equivalents and own use | E16: R0070 | F16: =G16+H16+SUM('S.02.02.01.02 '!H16:BE16) -> 0 | I16: ROSS16_12(7,1) | J16: ROSS16_12(7,2) | K16: ROSS16_12(7,4)
B17: Total assets | D17: Metric: Monetary|BC/Assets | E17: R0100 | F17: =G17+H17+SUM('S.02.02.01.02 '!H17:BE17) -> 0 | G17: =SUM(G11:G16) -> 0 | H17: =SUM(H11:H16) -> 0 | I17: ROSS16_12(1,1) | J17: ROSS16_12(1,2) | K17: ROSS16_12(1,4)
B18: Liabilities
B19: Technical provisions (excluding index-linked and unit-linked contracts) | C19: Metric: Monetary|BC/Liability|LB/Gross technical provisions [other than local GAAP specific] | D19: Neither unit-linked nor index-linked | E19: R0110 | F19: =G19+H19+SUM('S.02.02.01.02 '!H19:BE19) -> 0 | I19: ROSS16_22(2,1) | J19: ROSS16_22(2,2) | K19: ROSS16_22(2,4)
B20: Technical provisions - index-linked and unit-linked contracts | C20: Metric: Monetary|BC/Liability|LB/Gross technical provisions [other than local GAAP specific] | D20: Unit-linked or index-linked | E20: R0120 | F20: =G20+H20+SUM('S.02.02.01.02 '!H20:BE20) -> 0 | I20: ROSS16_22(3,1) | J20: ROSS16_22(3,2) | K20: ROSS16_22(3,4)
B21: intermediaries and reinsurance payables | D21: Metric: Monetary|BC/Liability|LB/Reinsurance deposits and receivables/payables [insurance/reinsurance related] | E21: R0130 | F21: =G21+H21+SUM('S.02.02.01.02 '!H21:BE21) -> 0 | I21: ROSS16_22(4,1) | J21: ROSS16_22(4,2) | K21: ROSS16_22(4,4)
B22: Derivatives | D22: Metric: Monetary|BC/Liability|LB/Derivatives | E22: R0140 | F22: =G22+H22+SUM('S.02.02.01.02 '!H22:BE22) -> 0 | I22: ROSS16_22(5,1) | J22: ROSS16_22(5,2) | K22: ROSS16_22(5,4)
B23: Financial liabilities | D23: Metric: Monetary|BC/Liability|LB/Debt instruments [not subordinated] | E23: R0150 | F23: =G23+H23+SUM('S.02.02.01.02 '!H23:BE23) -> 0 | I23: ROSS16_22(6,1) | J23: ROSS16_22(6,2) | K23: ROSS16_22(6,4)
B24: Contingent liabilities | D24: Metric: Monetary|BC/Liability|LB/Contingent | E24: R0160 | F24: =G24+H24+SUM('S.02.02.01.02 '!H24:BE24) -> 0 | I24: ROSS16_22(7,1) | J24: ROSS16_22(7,2) | K24: ROSS16_22(7,4)
B25: Any other liabilities | D25: reinsurance deposits and receivables/payables [insurance/reinsurance related] | E25: R0170 | F25: =G25+H25+SUM('S.02.02.01.02 '!H25:BE25) -> 0 | I25: ROSS16_22(8,1) | J25: ROSS16_22(8,2) | K25: ROSS16_22(8,4)
B26: Total liabilities | D26: Metric: Monetary|BC/Liability | E26: R0200 | F26: =G26+H26+SUM('S.02.02.01.02 '!H26:BE26) -> 0 | G26: =SUM(G19:G25) -> 0 | H26: =SUM(H19:H25) -> 0 | I26: ROSS16_22(1,1) | J26: ROSS16_22(1,2) | K26: ROSS16_22(1,4)

Sheet S.02.02.01.02 
A1: Zpět na obsah | B1: S.02.02.01.02 - Material currencies | BF1: Mapování na ROSS16_11 | BG1: Převodní můstek číselníky
F3: Solvency II
H5: *UNITREF=CZK, *DECIMALS=-1
H6: Value of material currencies | BF6: Value of material currencies
H7: CU5 | BF7: Dynamic
H8: C0050.1 | I8: C0050.2 | J8: C0050.3 | K8: C0050.4 | L8: C0050.5 | M8: C0050.6 | N8: C0050.7 | O8: C0050.8 | P8: C0050.9 | Q8: C0050.10 | R8: C0050.11 | S8: C0050.12 | T8: C0050.13 | U8: C0050.14 | V8: C0050.15 | W8: C0050.16 | X8: C0050.17 | Y8: C0050.18 | Z8: C0050.19 | AA8: C0050.20 | AB8: C0050.21 | AC8: C0050.22 | AD8: C0050.23 | AE8: C0050.24 | AF8: C0050.25 | AG8: C0050.26 | AH8: C0050.27 | AI8: C0050.28 | AJ8: C0050.29 | AK8: C0050.30 | AL8: C0050.31 | AM8: C0050.32 | AN8: C0050.33 | AO8: C0050.34 | AP8: C0050.35 | AQ8: C0050.36 | AR8: C0050.37 | AS8: C0050.38 | AT8: C0050.39 | AU8: C0050.40 | AV8: C0050.41 | AW8: C0050.42 | AX8: C0050.43 | AY8: C0050.44 | AZ8: C0050.45 | BA8: C0050.46 | BB8: C0050.47 | BC8: C0050.48 | BD8: C0050.49 | BE8: C0050.50 | BF8: C0050
B9: Material currency | F9: Original/exposure currency | G9: R0010 | H9: s2c_CU:EUR (EUR) | I9: s2c_CU:GBP (GBP) | J9: s2c_CU:USD (USD) | L9: CU5 | M9: CU5 | N9: CU5 | O9: CU5 | P9: CU5 | Q9: CU5 | R9: CU5 | S9: CU5 | T9: CU5 | U9: CU5 | V9: CU5 | W9: CU5 | X9: CU5 | Y9: CU5 | Z9: CU5 | AA9: CU5 | AB9: CU5 | AC9: CU5 | AD9: CU5 | AE9: CU5 | AF9: CU5 | AG9: CU5 | AH9: CU5 | AI9: CU5 | AJ9: CU5 | AK9: CU5 | AL9: CU5 | AM9: CU5 | AN9: CU5 | AO9: CU5 | AP9: CU5 | AQ9: CU5 | AR9: CU5 | AS9: CU5 | AT9: CU5 | AU9: CU5 | AV9: CU5 | AW9: CU5 | AX9: CU5 | AY9: CU5 | AZ9: CU5 | BA9: CU5 | BB9: CU5 | BC9: CU5 | BD9: CU5 | BE9: CU5 | BF9: ROSS16_11(*,1)
B10: Assets
B11: Investments (other than assets held for index-linked and unit-linked contracts) | C11: Metric: Monetary|BC/Assets|AS/Property, plant and equipment, Cash, Derivatives, Bonds, Equity instruments, Participations and related undertakings, Deposits other than reinsurance deposits, Collective investments undertakings, Other investments|IO/Investment | D11: Neither unit-linked nor index-linked | E11: Material | F11: Other than reporting currency | G11: R0020 | BF11: ROSS16_11(*,3)
B12: Other assets: Property, plant & equipment held for own use, Cash and cash equivalents, Loans on policies, Loans & mortgages to individuals and Other loans & mortgages (other than index-linked and unit-linked contracts) | C12: Metric: Monetary|BC/Assets|AS/Property, plant and equipment, Cash, Derivatives, Bonds, Equity instruments, Participations and related undertakings, Deposits other than reinsurance deposits, Collective investments undertakings, Other investments, Loans and mortgages|IO/Other than investment | D12: Neither unit-linked nor index-linked | E12: Material | F12: Other than reporting currency | G12: R0030 | BF12: ROSS16_11(*,4)
B13: Assets held for index-linked and unit-linked contracts | C13: Metric: Monetary|BC/Assets|AS/Property, plant and equipment, Cash, Derivatives, Bonds, Equity instruments, Participations and related undertakings, Deposits other than reinsurance deposits, Collective investments undertakings, Other investments|IO/Investment | D13: Unit-linked or index-linked | E13: Material | F13: Other than reporting currency | G13: R0040 | BF13: ROSS16_11(*,5)
B14: Reinsurance recoverables | D14: Metric: Monetary|BC/Assets|AS/Recoverables recognised for TP calculation|IO/Other than investment, own use, own instruments held directly and cash and cash equivalents|CC/Ceded | E14: Material | F14: Other than reporting currency | G14: R0050 | BF14: ROSS16_11(*,6)
B15: Deposits to cedants, insurance and intermediaries receivables and reinsurance receivables | D15: Metric: Monetary|BC/Assets|AS/Reinsurance deposits and receivables/payables [insurance/reinsurance related]|IO/Other than investment, own use, own instruments held directly and cash and cash equivalents | E15: Material | F15: Other than reporting currency | G15: R0060 | BF15: ROSS16_11(*,7)
B16: Any other assets | D16: Metric: Monetary|BC/Assets|AS/Other than property, plant and equipment, financial [other than receivables/payables insurance/reinsurance related, recoverables recognised for TP calculation and reinsurance deposits]|IO/Other than investment, cash and cash equivalents and own use | E16: Material | F16: Other than reporting currency | G16: R0070 | BF16: ROSS16_11(*,8)
B17: Total assets | D17: Metric: Monetary|BC/Assets | E17: Material | F17: Other than reporting currency | G17: R0100 | H17: =SUM(H11:H16) -> 0 | I17: =SUM(I11:I16) -> 0 | J17: =SUM(J11:J16) -> 0 | K17: =SUM(K11:K16) -> 0 | L17: =SUM(L11:L16) -> 0 | M17: =SUM(M11:M16) -> 0 | N17: =SUM(N11:N16) -> 0 | O17: =SUM(O11:O16) -> 0 | ... BE17: =SUM(BE11:BE16) -> 0 | BF17: ROSS16_11(*,2)
B18: Liabilities
B19: Technical provisions (excluding index-linked and unit-linked contracts) | C19: Metric: Monetary|BC/Liability|LB/Gross technical provisions [other than local GAAP specific] | D19: Neither unit-linked nor index-linked | E19: Material | F19: Other than reporting currency | G19: R0110 | BF19: ROSS16_21(*,3)
B20: Technical provisions - index-linked and unit-linked contracts | C20: Metric: Monetary|BC/Liability|LB/Gross technical provisions [other than local GAAP specific] | D20: Unit-linked or index-linked | E20: Material | F20: Other than reporting currency | G20: R0120 | BF20: ROSS16_21(*,4)
B21: Deposits from reinsurers and insurance, intermediaries and reinsurance payables | D21: Metric: Monetary|BC/Liability|LB/Reinsurance deposits and receivables/payables [insurance/reinsurance related] | E21: Material | F21: Other than reporting currency | G21: R0130 | BF21: ROSS16_21(*,5)
B22: Derivatives | D22: Metric: Monetary|BC/Liability|LB/Derivatives | E22: Material | F22: Other than reporting currency | G22: R0140 | BF22: ROSS16_21(*,6)
B23: Financial liabilities | D23: Metric: Monetary|BC/Liability|LB/Debt instruments [not subordinated] | E23: Material | F23: Other than reporting currency | G23: R0150 | BF23: ROSS16_21(*,7)
B24: Contingent liabilities | D24: Metric: Monetary|BC/Liability|LB/Contingent | E24: Material | F24: Other than reporting currency | G24: R0160 | BF24: ROSS16_21(*,8)
B25: Any other liabilities | D25: Metric: Monetary|BC/Liability|LB/Other than technical provisions, contingent, derivatives, debt instruments [not subordinated], reinsurance deposits and receivables/payables [insurance/reinsurance related] | E25: Material | F25: Other than reporting currency | G25: R0170 | BF25: ROSS16_21(*,9)
B26: Total liabilities | D26: Metric: Monetary|BC/Liability | E26: Material | F26: Other than reporting currency | G26: R0200 | H26: =SUM(H19:H24) -> 0 | I26: =SUM(I19:I24) -> 0 | J26: =SUM(J19:J24) -> 0 | K26: =SUM(K19:K24) -> 0 | L26: =SUM(L19:L24) -> 0 | M26: =SUM(M19:M24) -> 0 | N26: =SUM(N19:N24) -> 0 | O26: =SUM(O19:O24) -> 0 | ... BE26: =SUM(BE19:BE24) -> 0 | BF26: ROSS16_21(*,2)

Sheet S.03.01.01.01
A1: Zpět na obsah | B1: S.03.01.01.01 - Value of guarantee / collateral / contingent liabilities | H1: Mapování na DISS11_11 část I.
F4: *UNITREF=CZK, *DECIMALS=-1
F6: Maximum value | G6: Value of guarantee / collateral / contingent liabilities | H6: Maximum value | I6: Value of guarantee / collateral / contingent liabilities
F7: Maximum value | H7: Maximum value
F8: Solvency II | G8: Solvency II | H8: Solvency II | I8: Solvency II
F9: C0010 | G9: C0020 | H9: C0010 | I9: C0020
B10: Guarantees provided by the undertaking, including letters of credit | D10: Metric: Monetary|BC/Off-balance sheet|OB/Guarantees and letters of credit given | E10: R0010 | H10: DISS11_11(1,1) | I10: DISS11_11(1,2)
B11: Of which, guarantees, including letters of credit provided to other undertakings of the same group | D11: Metric: Monetary|BC/Off-balance sheet|RO/Belonging to the same group|OB/Guarantees and letters of credit given | E11: R0020 | H11: DISS11_11(2,1) | I11: DISS11_11(2,2)
B12: Guarantees received by the undertaking, including letters of credit | D12: Metric: Monetary|BC/Off-balance sheet|OB/Guarantees and letters of credit received | E12: R0030 | H12: DISS11_11(3,1) | I12: DISS11_11(3,2)
B13: Of which, guarantees, including letters of credit received from other undertakings of the same group | D13: Metric: Monetary|BC/Off-balance sheet|RO/Belonging to the same group|OB/Guarantees and letters of credit received | E13: R0040 | H13: DISS11_11(4,1) | I13: DISS11_11(4,2)
B14: Collateral held
B15: Collateral held for loans made or bonds purchased | D15: Metric: Monetary|BC/Off-balance sheet|AS/Loans and bonds|OB/Collateral held | E15: R0100 | I15: DISS11_11(6,2)
B16: Collateral held for derivatives | D16: Metric: Monetary|BC/Off-balance sheet|AS/Derivatives|OB/Collateral held | E16: R0110 | I16: DISS11_11(7,2)
B17: Assets pledged by reinsurers for ceded technical provisions | D17: Metric: Monetary|BC/Off-balance sheet|AS/Reinsurance deposits|OB/Collateral held|CC/Ceded | E17: R0120 | I17: DISS11_11(8,2)
B18: Other collateral held | D18: Metric: Monetary|BC/Off-balance sheet|AS/Other than loans, bonds, derivatives and reinsurance deposits|OB/Collateral held | E18: R0130 | I18: DISS11_11(9,2)
B19: Total collateral held | D19: Metric: Monetary|BC/Off-balance sheet|OB/Collateral held | E19: R0200 | G19: =G15+G16+G17+G18 -> 0 | I19: DISS11_11(5,2)
B20: Collateral pledged
B21: Collateral pledged for loans received or bonds issued | D21: Metric: Monetary|BC/Off-balance sheet|LB/Debt instruments [not subordinated]|OB/Collateral pledged | E21: R0210 | I21: DISS11_11(11,2)
B22: Collateral pledged for derivatives | D22: Metric: Monetary|BC/Off-balance sheet|LB/Derivatives|OB/Collateral pledged | E22: R0220 | I22: DISS11_11(12,2)
B23: Assets pledged to cedants for technical provisions (reinsurance accepted) | C23: Metric: Monetary|BC/Off-balance sheet|LB/Reinsurance deposits|OB/Collateral pledged | D23: Reinsurance accepted | E23: R0230 | I23: DISS11_11(13,2)
B24: Other collateral pledged | D24: Metric: Monetary|BC/Off-balance sheet|LB/Other than debt instruments [not subordinated], derivatives and reinsurance deposit|OB/Collateral pledged | E24: R0240 | I24: DISS11_11(14,2)
B25: Total collateral pledged | D25: Metric: Monetary|BC/Off-balance sheet|OB/Collateral pledged | E25: R0300 | G25: =G21+G22+G23+G24 -> 0 | I25: DISS11_11(10,2)
B26: Contingent liabilities
B27: Contingent liabilities not in Solvency II Balance Sheet | D27: Metric: Monetary|BC/Off-balance sheet|OB/Contingent liabilities | E27: R0310 | H27: DISS11_11(16,1) | I27: DISS11_11(16,2)
B28: Of which contingent liabilities toward entities of the same group | D28: Metric: Monetary|BC/Off-balance sheet|RO/Belonging to the same group|OB/Contingent liabilities | E28: R0320 | H28: DISS11_11(16,1)
B29: Contingent liabilities in Solvency II Balance Sheet | D29: Metric: Monetary|BC/Liability|LB/Contingent [for which maximum value is identified] | E29: R0330 | H29: DISS11_11(18,1) | I29: DISS11_11(18,2)
B30: Total Contingent liabilities | D30: Metric: Monetary|BC/Liability and Off-balance sheet liabilities|LB/Contingent|OB/Contingent liabilities | E30: R0400 | F30: =F27+F29 -> 0 | H30: DISS11_11(15,1)

Sheet S.03.01.01.02
A1: Zpět na obsah | B1: S.03.01.01.02 - Value of guaranteed assets and liabilities | H1: Mapování na DISS11_11 část II.
F4: *UNITREF=CZK, *DECIMALS=-1
F6: Value of assets for which collateral is held | G6: Value of liabilities for which collateral is pledged | H6: Value of assets for which collateral is held | I6: Value of liabilities for which collateral is pledged
F7: Collateralized assets value | G7: Collateralized liabilities value | H7: Collateralized assets value | I7: Collateralized liabilities value
F8: Solvency II | G8: Solvency II | H8: Solvency II | I8: Solvency II
F9: C0030 | G9: C0040 | H9: C0030 | I9: C0040
B10: Collateral held
B11: Collateral held for loans made or bonds purchased | D11: Metric: Monetary|BC/Assets|AS/Loans and bonds|OB/Collateral held | E11: R0100 | H11: DISS11_11(6,3)
B12: Collateral held for derivatives | D12: Metric: Monetary|BC/Assets|AS/Derivatives|OB/Collateral held | E12: R0110 | H12: DISS11_11(7,3)
B13: Assets pledged by reinsurers for ceded technical provisions | D13: Metric: Monetary|BC/Assets|AS/Reinsurance deposits|OB/Collateral held|CC/Ceded | E13: R0120 | H13: DISS11_11(8,3)
B14: Other collateral held | D14: Metric: Monetary|BC/Assets|AS/Other than loans, bonds, derivatives and reinsurance deposits|OB/Collateral held | E14: R0130 | H14: DISS11_11(9,3)
B15: Total collateral held | D15: Metric: Monetary|BC/Assets|OB/Collateral held | E15: R0200 | F15: =F11+F12+F13+F14 -> 0 | H15: DISS11_11(5,3)
B16: Collateral pledged
B17: Collateral pledged for loans received or bonds issued | D17: Metric: Monetary|BC/Liability|LB/Debt instruments [not subordinated]|OB/Collateral pledged | E17: R0210 | I17: DISS11_11(11,4)
B18: Collateral pledged for derivatives | D18: Metric: Monetary|BC/Liability|LB/Derivatives|OB/Collateral pledged | E18: R0220 | I18: DISS11_11(12,4)
B19: Assets pledged to cedants for technical provisions (reinsurance accepted) | C19: Metric: Monetary|BC/Liability|LB/Reinsurance deposits|OB/Collateral pledged | D19: Reinsurance accepted | E19: R0230 | I19: DISS11_11(13,4)
B20: Other collateral pledged | D20: Metric: Monetary|BC/Liability|LB/Other than debt instruments [not subordinated], derivatives and reinsurance deposit|OB/Collateral pledged | E20: R0240 | I20: DISS11_11(14,4)
B21: Total collateral pledged | D21: Metric: Monetary|BC/Liability|OB/Collateral pledged | E21: R0300 | G21: =G17+G18+G19+G20 -> 0 | I21: DISS11_11(10,4)

Sheet S.03.02.01.01
A1: Zpět na obsah | B1: S.03.02.01.01 - List of unlimited guarantees received by the undertaking | L1: Mapování na DISS16_11 | P1: Převodní můstek číselníky
F4: Pole C0030 musí být vyplněno ve formátu LEI/code. Pokud nastane situace, kdy LEI není k dispozici uvede se None
D6: Code of guarantee | E6: Name of provider of guarantee | F6: Code and type of code of provider of guarantee | G6: Provider of guarantee belonging to the same group | H6: Triggering event(s) of guarantee | I6: Specific triggering event(s) of guarantee | J6: Effective date of guarantee | K6: Ancillary Own Funds | L6: Code of guarantee | M6: Name of provider of guarantee | N6: Code and type of code of provider of guarantee | O6: Provider of guarantee belonging to the same group | P6: Triggering event(s) of guarantee | Q6: Specific triggering event(s) of guarantee | R6: Effective date of guarantee | S6: Ancillary Own Funds
D7: Code of guarantee | E7: Metric: String|OB/Unlimited guarantees and letters of credit received|TS/Name of collateral/guarantee provider | F7: Metric: String|OB/Unlimited guarantees and letters of credit received|TS/Code of provider of guarantee | G7: Metric: Provider of guarantee belonging to the same group | H7: Metric: Types of triggering events of guarantee (guarantees received) | I7: Metric: String|OB/Unlimited guarantees and letters of credit received|TS/Description of trigger event | J7: Metric: Date|OB/Unlimited guarantees and letters of credit received|TD/Application date of guarantee | K7: Metric: Ancillary Own Funds|OB/Unlimited guarantees and letters of credit received | L7: DISS16_11(*,2) | M7: DISS16_11(*,3) | N7: DISS16_11(*,4) | O7: DISS16_11(*,5) | P7: DISS16_11(*,6) | Q7: DISS16_11(*,7) | R7: DISS16_11(*,8) | S7: DISS16_11(*,9)
D8: C0010 | E8: C0020 | F8: C0030 | G8: C0050 | H8: C0060 | I8: C0070 | J8: C0080 | K8: C0090 | L8: C0010 | M8: C0020 | N8: C0030 | O8: C0050 | P8: C0060 | Q8: C0070 | R8: C0080 | S8: C0090
B9: Dynamic | C9: 1.1 | D9: ID | E9: xbrli_stringItemType | F9: xbrli_stringItemType | G9: CS11 | H9: LT1 | I9: xbrli_stringItemType | J9: xbrli_dateItemType | K9: EL7 | L9: an80 | M9: an80 | N9: R_LEI_EX | O9: D_S_AN1 | P9: Z_ZARUKA | Q9: an_250 | R9: d8 | S9: Z_KAPITAL
C10: 1.2 | F10: LEI/code
C11: 1.3 | F11: None
C12: 1.4
C13: 1.5
C14: 1.6
C15: 1.7
C16: 1.8
C17: 1.9
C18: 1.10
C19: 1.11
C20: 1.12
C21: 1.13
C22: 1.14
C23: 1.15
... C108: 1.100

Sheet S.03.03.01.01
A1: Zpět na obsah | B1: S.03.03.01.01 - List of unlimited guarantees provided by the undertaking | L1: Mapování DISS21_11 | P1: Převodní můstek číselníky
F4: Pole C0030 musí být vyplněno ve formátu LEI/code. Pokud nastane situace, kdy LEI není k dispozici uvede se None
D6: Code of guarantee | E6: Name of receiver of guarantee | F6: Code and type of code of receiver of guarantee | G6: Receiver of guarantee belonging to the same group | H6: Triggering event(s) of guarantee | I6: Estimation of the maximum value of guarantee | J6: Specific triggering event(s) of guarantee | K6: Effective date of guarantee | L6: Code of guarantee | M6: Name of receiver of guarantee | N6: Code and type of code of receiver of guarantee | O6: Receiver of guarantee belonging to the same group | P6: Triggering event(s) of guarantee | Q6: Estimation of the maximum value of guarantee | R6: Specific triggering event(s) of guarantee | S6: Effective date of guarantee
D7: Code of guarantee | E7: Metric: String|OB/Unlimited guarantees and letters of credit given|TS/Name of receiver of guarantee | F7: Metric: String|OB/Unlimited guarantees and letters of credit given|TS/Code of receiver of guarantee | G7: Metric: Receiver of guarantee belonging to the same group | H7: Metric: Types of triggering events of guarantee (guarantees given) | I7: Metric: Monetary|TA/Maximum value|VG/Solvency II|BC/Off-balance sheet|OB/Unlimited guarantees and letters of credit given | J7: Metric: String|OB/Unlimited guarantees and letters of credit given|TS/Description of trigger event | K7: Metric: Date|OB/Unlimited guarantees and letters of credit given|TD/Application date of guarantee | L7: DISS21_11(*,2) | M7: DISS21_11(*,3) | N7: DISS21_11(*,4) | O7: DISS21_11(*,5) | P7: DISS21_11(*,6) | Q7: DISS21_11(*,7) | R7: DISS21_11(*,8) | S7: DISS21_11(*,9)
D8: C0010 | E8: C0020 | F8: C0030 | G8: C0050 | H8: C0060 | I8: C0070 | J8: C0080 | K8: C0090 | L8: C0010 | M8: C0020 | N8: C0030 | O8: C0050 | P8: C0060 | Q8: C0070 | R8: C0080 | S8: C0090
B9: Dynamic | C9: 1.1 | D9: ID | E9: xbrli_stringItemType | F9: xbrli_stringItemType | G9: CS11 | H9: LT1 | I9: xbrli_monetaryItemType | J9: xbrli_stringItemType | K9: xbrli_dateItemType | L9: an80 | M9: an80 | N9: R_LEI_EX | O9: D_S_AN1 | P9: Z_ZARUKA | Q9: nS14_2 | R9: an_250 | S9: d8
C10: 1.2 | F10: LEI/code
C11: 1.3 | F11: None
C12: 1.4
C13: 1.5
C14: 1.6
C15: 1.7
C16: 1.8
C17: 1.9
C18: 1.10
C19: 1.11
C20: 1.12
C21: 1.13
C22: 1.14
C23: 1.15
... C108: 1.100

Sheet S.04.01.01.01.1
A1: Zpět na obsah | B1: S.04.01.01.01 - S.04.01.01.01 Undertaking and all branches | M1: Mapování na DISS26_11 | R1: Převodní můstek číselníky
D3: VG.x84 - Statutory accounts | F3: !Pro každý relevantní Lob (Z0010) samostatná karta - S.04.01.01.01.1 až X ( šablona automaticky generuje 5 karet) . | N3: Ve starém systému SDNS místo karty, byla datová oblast řešena prostřednictvím dynamického řádku, tj všechny relevantní proměnné byly v jedné tabulce.
B5: Line of business | D5: BL.LB52 - Line of business [general] | E5: Z0010 | F5: LB52 | M5: Z0010 | N5: DISS26_11(*,1) | O5: BA0812 | P5: D_S_NEZZIVZDR_2
F6: *UNITREF=CZK, *DECIMALS=-1
F7: Undertaking | I7: All EEA members | L7: Total business underwritten by all non-EEA branches | N7: Undertaking | Q7: All EEA members | T7: Total business underwritten by all non-EEA branches
F8: Business underwritten in the home country, by the undertaking | G8: Business underwritten through FPS, by the undertaking in the EEA countries different from the home country | H8: Business underwritten through FPS in the home country, by any EEA branch | I8: Total business underwritten by all EEA branches in the country where they are established | J8: Total business underwritten through FPS, by all EEA branches | K8: Total of the business underwritten through FPS by the undertaking and all EEA branches | N8: Business underwritten in the home country, by the undertaking | O8: Business underwritten through FPS, by the undertaking in the EEA countries different from the home country | P8: Business underwritten through FPS in the home country, by any EEA branch | Q8: Total business underwritten by all EEA branches in the country where they are established | R8: Total business underwritten through FPS, by all EEA branches | S8: Total of the business underwritten through FPS by the undertaking and all EEA branches
H9: LA.x24 - Home country | I9: LA.x75 - Local | J9: LA.x77 - Not local [EEA] | K9: LA.x76 - Not local | P9: LA.x24 - Home country | Q9: LA.x75 - Local | R9: LA.x77 - Not local [EEA] | S9: LA.x76 - Not local
F10: LA.x24 - Home country | G10: LA.x15 - EEA countries [other than home country] | H10: LR.x14 - EEA | I10: LR.x14 - EEA | J10: LR.x14 - EEA | K10: LR.x14 - EEA | L10: LR.x42 - Not EEA countries | N10: LA.x24 - Home country | O10: LA.x15 - EEA countries [other than home country] | P10: LR.x14 - EEA | Q10: LR.x14 - EEA | R10: LR.x14 - EEA | S10: LR.x14 - EEA | T10: LR.x42 - Not EEA countries
F11: TZ.x175 - Typical undertaking activity | G11: TZ.x32 - Freedom to provide services by undertaking | H11: TZ.x162 - Freedom to provide services by the branch | I11: TZ.x169 - Typical branch activity | J11: TZ.x162 - Freedom to provide services by the branch | K11: TZ.x163 - Freedom to provide services [FPS] and Freedom to provide services by the branches | L11: TZ.x13 - Branch | N11: TZ.x175 - Typical undertaking activity | O11: TZ.x32 - Freedom to provide services by undertaking | P11: TZ.x162 - Freedom to provide services by the branch | Q11: TZ.x169 - Typical branch activity | R11: TZ.x162 - Freedom to provide services by the branch | S11: TZ.x163 - Freedom to provide services [FPS] and Freedom to provide services by the branches | T11: TZ.x13 - Branch
F12: C0010 | G12: C0020 | H12: C0030 | I12: C0040 | J12: C0050 | K12: C0060 | L12: C0070 | N12: C0010 | O12: C0020 | P12: C0030 | Q12: C0040 | R12: C0050 | S12: C0060 | T12: C0070
B13: Premiums written | C13: mi503 - Metric: Monetary|BC/Premiums written | D13: IZ.x1 - Accepted during the period | E13: R0020 | G13: =K13-J13+-H13 -> 0 | I13: =+S.04.01.01.02.1!F13 -> 0 | J13: =+S.04.01.01.02.1!G13 -> 0 | K13: =SUM(S.04.01.01.03.1!H12:'S.04.01.01.03.1'!AA12) -> 0 | M13: R0020 /P0651=20 | N13: DISS26_11(*,3,P0651=20) | O13: DISS26_11(*,4,P0651=20) | P13: DISS26_11(*,5,P0651=20) | Q13: DISS26_11(*,6,P0651=20) | R13: DISS26_11(*,7,P0651=20) | S13: DISS26_11(*,8,P0651=20) | T13: DISS26_11(*,9,P0651=20)
B14: Claims incurred | D14: mi281 - Metric: Monetary|BC/Claims incurred | E14: R0030 | I14: =+S.04.01.01.02.1!F14 -> 0 | J14: =+S.04.01.01.02.1!G14 -> 0 | M14: R0030/P0651=30 | N14: DISS26_11(*,3,P0651=30) | O14: DISS26_11(*,4,P0651=30) | Q14: DISS26_11(*,6,P0651=30) | R14: DISS26_11(*,7,P0651=30) | T14: DISS26_11(*,9,P0651=30)
B15: Commissions | D15: mi325 - Metric: Monetary|BC/Expenses|TE/Commissions | E15: R0040 | I15: =+S.04.01.01.02.1!F15 -> 0 | J15: =+S.04.01.01.02.1!G15 -> 0 | M15: R0040/P0651=40 | N15: DISS26_11(*,3,P0651=40) | O15: DISS26_11(*,4,P0651=40) | Q15: DISS26_11(*,6,P0651=40) | R15: DISS26_11(*,7,P0651=40) | T15: DISS26_11(*,9,P0651=40)
F25: ;

Sheet S.04.01.01.02.1
A1: Zpět na obsah | B1: S.04.01.01.02 - S.04.01.01.02 By EEA member (location of the branch) | H1: Mapování na DISS26_12 ( část I.) | M1: Převodní můstek číselníky
F2: !Pro každou relevantní kombinaci Lob (Z0010) a EEA zemi (R0010) je samostatná karta - S.04.01.01.01.1 až X ( šablona z SDAT automaticky generuje 5 karet) | I2: Ve starém systému SDNS místo karty, byla datová oblast řešena prostřednictvím dynamického řádku, tj všechny relevantní proměnné byly v jedné tabulce.
D3: VG.x84 - Statutory accounts
B5: Line of business | D5: BL.LB52 - Line of business [general] | E5: Z0010 | F5: LB52 | H5: Z0010 | I5: DISS26_12(*,2) | J5: BA0812 | K5: D_S_NEZZIVZDR_2
B6: EEA member | D6: LR.GA13 - Location of the branch | E6: R0010 | F6: GA13 | H6: R0010 | I6: DISS26_12(*,1) | J6: BA0025 | K6: D_S_EHP_2
F7: *UNITREF=CZK, *DECIMALS=-1
F8: By EEA member | I8: By EEA member
F9: Business underwritten in the considered country, by the EEA branch established in this country | G9: Business underwritten through FPS, by the EEA branch established in the considered country | I9: Business underwritten in the considered country, by the EEA branch established in this country | J9: Business underwritten through FPS, by the EEA branch established in the considered country
F10: LA.x75 - Local | G10: LA.x77 - Not local [EEA] | I10: LA.x75 - Local | J10: LA.x77 - Not local [EEA]
F11: TZ.x169 - Typical branch activity | G11: TZ.x162 - Freedom to provide services by the branch | I11: TZ.x169 - Typical branch activity | J11: TZ.x162 - Freedom to provide services by the branch
F12: C0080 | G12: C0090 | I12: C0080 | J12: C0090
B13: Premiums written | C13: mi503 - Metric: Monetary|BC/Premiums written | D13: IZ.x1 - Accepted during the period | E13: R0020 | H13: R0020 /P0651=20 | I13: DISS26_12(*,4,P0651=20) | J13: DISS26_12(*,5,P0651=20)
B14: Claims incurred | D14: mi281 - Metric: Monetary|BC/Claims incurred | E14: R0030 | H14: R0030/P0651=30 | I14: DISS26_12(*,4,P0651=30) | J14: DISS26_12(*,5,P0651=30)
B15: Commissions | D15: mi325 - Metric: Monetary|BC/Expenses|TE/Commissions | E15: R0040 | H15: R0040/P0651=40 | I15: DISS26_12(*,4,P0651=40) | J15: DISS26_12(*,5,P0651=40)

Sheet S.04.01.01.03.1
A1: Zpět na obsah | B1: S.04.01.01.03 - By EEA member (localization of activity [based on place of underwriting]) | AB1: Mapování na DISS26_12 ( část II.) | AG1: Převodní můstek číselníky
H2: !Pro každou relevantní kombinaci Lob (Z0010) a EEA zemi (R0010) je samostatná karta - S.04.01.01.01.1 až X ( šablona z SDAT automaticky generuje 5 karet) | AC2: Ve starém systému SDNS místo karty, byla datová oblast řešena prostřednictvím dynamického řádku, tj všechny relevantní proměnné byly v jedné tabulce.
F3: VG.x84 - Statutory accounts
B5: Line of business | F5: BL.LB52 - Line of business [general] | G5: Z0010 | H5: LB52 | AB5: Z0010 | AC5: DISS26_12(*,2) | AD5: BA0812 | AE5: D_S_NEZZIVZDR_2
H7: By EEA member | AC7: By EEA member
H8: Business underwritten in the considered country through FPS, by the undertaking or any EEA branch | AC8: Business underwritten in the considered country through FPS, by the undertaking or any EEA branch
H9: Dynamic | AC9: Dynamic
H10: C0100.1 | I10: C0100.2 | J10: C0100.3 | K10: C0100.4 | L10: C0100.5 | M10: C0100.6 | N10: C0100.7 | O10: C0100.8 | P10: C0100.9 | Q10: C0100.10 | R10: C0100.11 | S10: C0100.12 | T10: C0100.13 | U10: C0100.14 | V10: C0100.15 | W10: C0100.16 | X10: C0100.17 | Y10: C0100.18 | Z10: C0100.19 | AA10: C0100.20 | AC10: C0100
B11: EEA member | F11: LA - Localization of activity [based on place of underwriting] | G11: R0010 | H11: s2c_GA:CZ (CZECHIA) | I11: GA13 | J11: GA13 | K11: GA13 | L11: GA13 | M11: GA13 | N11: GA13 | O11: GA13 | P11: GA13 | Q11: GA13 | R11: GA13 | S11: GA13 | T11: GA13 | U11: GA13 | V11: GA13 | W11: GA13 | X11: GA13 | Y11: GA13 | Z11: GA13 | AA11: GA13 | AB11: R0010 | AC11: DISS26_12(*,1) BA0025 D_S_EHP_2
B12: Premiums written | C12: mi503 - Metric: Monetary|BC/Premiums written | D12: IZ.x1 - Accepted during the period | E12: LR.x14 - EEA | F12: TZ.x163 - Freedom to provide services [FPS] and Freedom to provide services by the branches | G12: R0020 | AB12: R0020 /P0651=20 | AC12: DISS26_12(*,6,P0651=20)
B13: Claims incurred | G13: R0030 | AB13: R0030/P0651=30
B14: Commissions | G14: R0040 | AB14: R0040/P0651=40
H16: Relevanntí EEA země (bez CZ/domovská země)je v této datové oblasti řešena přes dynamický sloupec (C0110.1-X), systém SDAT pro šablonu generuje automaticky dvacet sloupců.

Sheet S.04.01.01.04.1
A1: Zpět na obsah | B1: S.04.01.01.04 - S.04.01.01.04 By material non-EEA member | AB1: Mapování na DISS26_13 | AG1: Převodní můstek číselníky
H2: !Pro každou relevantní kombinaci Lob (Z0010) a EEA zemi (R0010) je samostatná karta - S.04.01.01.01.1 až X ( šablona z SDAT automaticky generuje 5 karet) | AC2: Ve starém systému SDNS místo karty, byla datová oblast řešena prostřednictvím dynamického řádku, tj všechny relevantní proměnné byly v jedné tabulce.
F3: VG.x84 - Statutory accounts
B5: Line of business | F5: BL.LB52 - Line of business [general] | G5: Z0010 | H5: LB52 | AB5: Z0010 | AC5: DISS26_13(*,2) | AD5: BA0812 | AE5: D_S_NEZZIVZDR_2
H7: By EEA member | AC7: By EEA member
H8: Business underwritten in the considered country through FPS, by the undertaking or any EEA branch | AC8: Business underwritten in the considered country through FPS, by the undertaking or any EEA branch
H9: Dynamic | AC9: Dynamic
H10: C0110.1 | I10: C0110.2 | J10: C0110.3 | K10: C0110.4 | L10: C0110.5 | M10: C0110.6 | N10: C0110.7 | O10: C0110.8 | P10: C0110.9 | Q10: C0110.10 | R10: C0110.11 | S10: C0110.12 | T10: C0110.13 | U10: C0110.14 | V10: C0110.15 | W10: C0110.16 | X10: C0110.17 | Y10: C0110.18 | Z10: C0110.19 | AA10: C0110.20 | AC10: C0100
B11: Non-EEA member | F11: LA - Localization of activity [based on place of underwriting] | G11: R0010 | H11: GA14 | I11: GA14 | J11: GA14 | K11: GA14 | L11: GA14 | M11: GA14 | N11: GA14 | O11: GA14 | P11: GA14 | Q11: GA14 | R11: GA14 | S11: GA14 | T11: GA14 | U11: GA14 | V11: GA14 | W11: GA14 | X11: GA14 | Y11: GA14 | Z11: GA14 | AA11: GA14 | AB11: R0010 | AC11: DISS26_12(*,1) BA0025 D_S_EHP_2
B12: Premiums written | C12: mi503 - Metric: Monetary|BC/Premiums written | D12: IZ.x1 - Accepted during the period | E12: LR.x14 - EEA | F12: TZ.x163 - Freedom to provide services [FPS] and Freedom to provide services by the branches | G12: R0020 | AB12: R0020 /P0651=20 | AC12: DISS26_13(*,4,P0651=20)
B13: Claims incurred | G13: R0030 | AB13: R0030/P0651=30 | AC13: DISS26_13(*,4,P0651=30)
B14: Commissions | G14: R0040 | AB14: R0040/P0651=40 | AC14: DISS26_13(*,4,P0651=40)
H16: Relevanntí měna je v této datové oblasti řešena přes dynamický sloupec (C0110.1-X), systém SDAT pro šablonu generuje automaticky dvacet sloupců.

Sheet S.04.02.01.01
A1: Zpět na obsah | B1: S.04.02.01.01 - S.04.02.01.01 Information on class 10 in Part A of Annex I of Solvency II Directive, excluding carrier's liability. Part 1 | H1: Mapování na DISS31_11
G6: Undertaking | H6: Undertaking
G7: FPS | H7: FPS
G8: LA.x15 - EEA countries [other than home country] | H8: LA.x15 - EEA countries [other than home country]
G9: TZ.x32 - Freedom to provide services by undertaking | H9: TZ.x32 - Freedom to provide services by undertaking
G10: C0010 | H10: C0010
B11: Frequency of claims for Motor Vehicle Liability (except carrier's liability) | E11: ri2483 - Metric: Decimal|CB/Motor vehicle liability insurance [except carrier's liability]|NT/Frequency of claims | F11: R0020 | H11: DISS31_11(1,1)
B12: Average cost of claims for Motor Vehicle Liability (except carrier's liability) | C12: mi1820 - Metric: Monetary|BC/Cost of claims|CB/Motor vehicle liability insurance [except carrier's liability] | D12: TA.x10 - Average | E12: VG.x84 - Statutory accounts | F12: R0030 | H12: DISS31_11(2,1)

Sheet S.04.02.01.02.1
A1: Zpět na obsah | B1: S.04.02.01.02 - S.04.02.01.02 Information on class 10 in Part A of Annex I of Solvency II Directive, excluding carrier's liability. Part 2 | I1: Mapování na DISS31_21 | K1: Převodní můstek číselníky
G3: !Pro každou relevantní EEA (R010) samostatná karta - S.04.02.01.02.1 až X ( šablona automaticky generuje 5 karet) . Jednotlivé země jsou v rozpadu součástí comboboxu GA13. | J3: Ve starém systému SDNS místo karty, byla datová oblast řešena prostřednictvím dynamického řádku, tj všechny relevantní proměnné byly v jedné tabulce.
B5: EEA member | E5: LG.GA13 - Localization of activity | F5: R0010 | G5: GA13 | I5: R0010 | J5: DISS31_21(*,2) | K5: BA0025 | L5: D_S_EHP_2
G7: By EEA Member | J7: By EEA Member
G8: Branch | H8: FPS | J8: Branch | K8: FPS
G9: LA.x75 - Local | H9: LA.x77 - Not local [EEA] | J9: LA.x75 - Local | K9: LA.x77 - Not local [EEA]
G10: LR.x14 - EEA | H10: LR.x14 - EEA | J10: LR.x14 - EEA | K10: LR.x14 - EEA
G11: TZ.x169 - Typical branch activity | H11: TZ.x162 - Freedom to provide services by the branch | J11: TZ.x169 - Typical branch activity | K11: TZ.x162 - Freedom to provide services by the branch
G12: C0020 | H12: C0030 | J12: C0020 | K12: C0030
B13: Frequency of claims for Motor Vehicle Liability (except carrier's liability) | E13: ri2483 - Metric: Decimal|CB/Motor vehicle liability insurance [except carrier's liability]|NT/Frequency of claims | F13: R0020 | I13: R0020 | J13: DISS31_21(*,3) | K13: DISS31_21(*,5)
B14: Average cost of claims for Motor Vehicle Liability (except carrier's liability) | C14: mi1820 - Metric: Monetary|BC/Cost of claims|CB/Motor vehicle liability insurance [except carrier's liability] | D14: TA.x10 - Average | E14: VG.x84 - Statutory accounts | F14: R0030 | I14: R0030 | J14: DISS31_21(*,4) | K14: DISS31_21(*,6)

Sheet S.05.01.01.01
A1: Zpět na obsah | B1: S.05.01.01.01 - S.05.01.01.01 Non-Life (direct business/accepted proportional reinsurance and accepted non-proportional reinsurance) | X1: Mapování na DISS36_11
D3: DI.x5 - Year to Date | E3: VG.x84 - Statutory accounts
G5: *UNITREF=CZK, *DECIMALS=-1 | Y5: *UNITREF=CZK, *DECIMALS=-1
G6: Line of Business for: non-life insurance and reinsurance obligations (direct business and accepted proportional reinsurance) | S6: Line of Business for: accepted non-proportional reinsurance | W6: Total | Y6: Line of Business for: non-life insurance and reinsurance obligations (direct business and accepted proportional reinsurance) | AK6: Line of Business for: accepted non-proportional reinsurance | AO6: Total
G7: Medical expense insurance | H7: Income protection insurance | I7: Workers' compensation insurance | J7: Motor vehicle liability insurance | K7: Other motor insurance | L7: Marine, aviation and transport insurance | M7: Fire and other damage to property insurance | N7: General liability insurance | O7: Credit and suretyship insurance | P7: Legal expenses insurance | Q7: Assistance | R7: Miscellaneous financial loss | S7: Health | T7: Casualty | U7: Marine, aviation, transport | V7: Property | Y7: Medical expense insurance | Z7: Income protection insurance | AA7: Workers' compensation insurance | AB7: Motor vehicle liability insurance | AC7: Other motor insurance | AD7: Marine, aviation and transport insurance | AE7: Fire and other damage to property insurance | AF7: General liability insurance | AG7: Credit and suretyship insurance | AH7: Legal expenses insurance | AI7: Assistance | AJ7: Miscellaneous financial loss | AK7: Health | AL7: Casualty | AM7: Marine, aviation, transport | AN7: Property
