Workbook

Sheet CZK
A1: ČESKÁ NÁRODNÍ BANKA
A2: Odbor makroekonomických statistik
A3: Dluhová služba ČR z dlouhodobé zadluženosti k 30.6.2026 podle sektorů
A7: (v mil. CZK ) | B7: stav k 30.6.2026 | C7: 0 až 3 M | D7: 3 až 6 M | E7: 6 až 9 M | F7: 9 až 12 M | G7: 12 až 18 M | H7: 18 až 24 M | I7: víc než 2 roky
A8: Vládní instituce | C8: =+C9+C10 -> 1442.687 | D8: =+D9+D10 -> 4242.0842 | E8: =+E9+E10 -> 29661.391 | F8: =+F9+F10 -> 1188.7399 | G8: =+G9+G10 -> 118107.15 | H8: =+H9+H10 -> 1406.68 | I8: =+I9+I10 -> 765886.46
A9: Jistina | B9: =SUM(C9:I9) -> 854268.49 | C9: 1027.242 | D9: 908.99304 | E9: 29495.282 | F9: 865.01192 | G9: 114920.87 | H9: 994.69692 | I9: 706056.4
A10: Úroky | C10: 415.445 | D10: 3333.0912 | E10: 166.10949 | F10: 323.728 | G10: 3186.2834 | H10: 411.98304 | I10: 59830.067
A11: Centrální banka | C11: =SUM(C12:C13) -> 603.70652 | D11: =SUM(D12:D13) -> 565.87881 | E11: =SUM(E12:E13) -> 564.14101 | F11: =SUM(F12:F13) -> 576.34219 | G11: =SUM(G12:G13) -> 1169.5853 | H11: =SUM(H12:H13) -> 1140.4832 | I11: =SUM(I12:I13) -> 87471.937
A12: Jistina | B12: =SUM(C12:I12) -> 82851.8 | C12: 0 | D12: 0 | E12: 0 | F12: 0 | G12: 0 | H12: 0 | I12: 82851.8
A13: Úroky | C13: 603.70652 | D13: 565.87881 | E13: 564.14101 | F13: 576.34219 | G13: 1169.5853 | H13: 1140.4832 | I13: 4620.1371
A14: Obchodní banky | C14: =SUM(C15:C16) -> 5949.0818 | D14: =SUM(D15:D16) -> 6823.9729 | E14: =SUM(E15:E16) -> 13036.669 | F14: =SUM(F15:F16) -> 8198.4722 | G14: =SUM(G15:G16) -> 37348.986 | H14: =SUM(H15:H16) -> 28048.35 | I14: =SUM(I15:I16) -> 580965.04
A15: Jistina | B15: =SUM(C15:I15) -> 646523.52 | C15: 2374.8042 | D15: 4828.0047 | E15: 10835.052 | F15: 6083.7798 | G15: 33548.26 | H15: 24594.192 | I15: 564259.43
A16: Úroky | C16: 3574.2776 | D16: 1995.9681 | E16: 2201.617 | F16: 2114.6924 | G16: 3800.7267 | H16: 3454.1579 | I16: 16705.608
A17: Ostatní sektory | C17: =+C18+C19 -> 28506.361 | D17: =+D18+D19 -> 27802.537 | E17: =+E18+E19 -> 22402.823 | F17: =+F18+F19 -> 5354.9901 | G17: =+G18+G19 -> 50944.112 | H17: =+H18+H19 -> 27644.919 | I17: =+I18+I19 -> 599126.22
A18: Jistina | B18: =SUM(C18:I18) -> 660302.99 | C18: 27185.235 | D18: 26622.916 | E18: 21048.333 | F18: 4402.0126 | G18: 48053.17 | H18: 24940.602 | I18: 508050.72
A19: Úroky* | C19: 1321.1265 | D19: 1179.6217 | E19: 1354.4908 | F19: 952.97755 | G19: 2890.9421 | H19: 2704.317 | I19: 91075.501
A20: Přímé investice: půjčky | C20: =+C21+C22 -> 156579.69 | D20: =+D21+D22 -> 84290.762 | E20: =+E21+E22 -> 48231.435 | F20: =+F21+F22 -> 127451.16 | G20: =+G21+G22 -> 61136.223 | H20: =+H21+H22 -> 91164.257 | I20: =+I21+I22 -> 266888.12
A21: Jistina | B21: =SUM(C21:I21) -> 754433 | C21: 150472.45 | D21: 73877.034 | E21: 41927.945 | F21: 117466.59 | G21: 53986.749 | H21: 80284.982 | I21: 236417.26
A22: Úroky | C22: 6107.2469 | D22: 10413.728 | E22: 6303.4907 | F22: 9984.5738 | G22: 7149.4741 | H22: 10879.275 | I22: 30470.859
A23: Celková dluhová služba | C23: =+C24+C25 -> 193081.53 | D23: =+D24+D25 -> 123725.24 | E23: =+E24+E25 -> 113896.46 | F23: =+F24+F25 -> 142769.71 | G23: =+G24+G25 -> 268706.06 | H23: =+H24+H25 -> 149404.69 | I23: =+I24+I25 -> 2300337.8
A24: Jistina | B24: =+B9+B12+B15+B18+B21 -> 2998379.8 | C24: =+C9+C12+C15+C18+C21 -> 181059.73 | D24: =+D9+D12+D15+D18+D21 -> 106236.95 | E24: =+E9+E12+E15+E18+E21 -> 103306.61 | F24: =+F9+F12+F15+F18+F21 -> 128817.39 | G24: =+G9+G12+G15+G18+G21 -> 250509.05 | H24: =+H9+H12+H15+H18+H21 -> 130814.47 | I24: =+I9+I12+I15+I18+I21 -> 2097635.6
A25: Úroky | C25: =+C22+C19+C16+C13+C10 -> 12021.802 | D25: =+D22+D19+D16+D13+D10 -> 17488.288 | E25: =+E22+E19+E16+E13+E10 -> 10589.849 | F25: =+F22+F19+F16+F13+F10 -> 13952.314 | G25: =+G22+G19+G16+G13+G10 -> 18197.012 | H25: =+H22+H19+H16+H13+H10 -> 18590.216 | I25: =+I22+I19+I16+I13+I10 -> 202702.17
A26: */ Úroky z dovozních úvěrů jsou zahrnuty ve splátkách jistiny.
A27: Pozn.: Součty nemusejí souhlasit z důvodů zaokrouhlení.

Sheet EUR
A1: ČESKÁ NÁRODNÍ BANKA
A2: Odbor makroekonomických statistik
A3: Dluhová služba ČR z dlouhodobé zadluženosti k 30.6.2026 podle sektorů
A7: (v mil. CZK ) | B7: stav k 30.6.2026 | C7: 0 až 3 M | D7: 3 až 6 M | E7: 6 až 9 M | F7: 9 až 12 M | G7: 12 až 18 M | H7: 18 až 24 M | I7: víc než 2 roky
A8: Vládní instituce | C8: =+C9+C10 -> 59.467725 | D8: =+D9+D10 -> 174.8592 | E8: =+E9+E10 -> 1222.646 | F8: =+F9+F10 -> 48.999997 | G8: =+G9+G10 -> 4868.3905 | H8: =+H9+H10 -> 57.98351 | I8: =+I9+I10 -> 31569.928
A9: Jistina | B9: =SUM(C9:I9) -> 35213.046 | C9: =+CZK!C9/EUR!$B$28 -> 42.343034 | D9: =+CZK!D9/EUR!$B$28 -> 37.468798 | E9: =+CZK!E9/EUR!$B$28 -> 1215.7989 | F9: =+CZK!F9/EUR!$B$28 -> 35.655891 | G9: =+CZK!G9/EUR!$B$28 -> 4737.0515 | H9: =+CZK!H9/EUR!$B$28 -> 41.001522 | I9: =+CZK!I9/EUR!$B$28 -> 29103.726
A10: Úroky | C10: =+CZK!C10/EUR!$B$28 -> 17.124691 | D10: =+CZK!D10/EUR!$B$28 -> 137.3904 | E10: =+CZK!E10/EUR!$B$28 -> 6.8470523 | F10: =+CZK!F10/EUR!$B$28 -> 13.344106 | G10: =+CZK!G10/EUR!$B$28 -> 131.33897 | H10: =+CZK!H10/EUR!$B$28 -> 16.981988 | I10: =+CZK!I10/EUR!$B$28 -> 2466.2023
A11: Centrální banka | C11: =+C12+C13 -> 24.884852 | D11: =+D12+D13 -> 23.32559 | E11: =+E12+E13 -> 23.253958 | F11: =+F12+F13 -> 23.756892 | G11: =+G12+G13 -> 48.210442 | H11: =+H12+H13 -> 47.010849 | I11: =+I12+I13 -> 3605.6033
A12: Jistina | B12: =SUM(C12:I12) -> 3415.1608 | C12: =+CZK!C12/EUR!$B$28 -> 0 | D12: =+CZK!D12/EUR!$B$28 -> 0 | E12: =+CZK!E12/EUR!$B$28 -> 0 | F12: =+CZK!F12/EUR!$B$28 -> 0 | G12: =+CZK!G12/EUR!$B$28 -> 0 | H12: =+CZK!H12/EUR!$B$28 -> 0 | I12: =+CZK!I12/EUR!$B$28 -> 3415.1608
A13: Úroky | C13: =+CZK!C13/EUR!$B$28 -> 24.884852 | D13: =+CZK!D13/EUR!$B$28 -> 23.32559 | E13: =+CZK!E13/EUR!$B$28 -> 23.253958 | F13: =+CZK!F13/EUR!$B$28 -> 23.756892 | G13: =+CZK!G13/EUR!$B$28 -> 48.210442 | H13: =+CZK!H13/EUR!$B$28 -> 47.010849 | I13: =+CZK!I13/EUR!$B$28 -> 190.44258
A14: Obchodní banky | C14: =+C15+C16 -> 245.22184 | D14: =+D15+D16 -> 281.28495 | E14: =+E15+E16 -> 537.37299 | F14: =+F15+F16 -> 337.94197 | G14: =+G15+G16 -> 1539.5295 | H14: =+H15+H16 -> 1156.1562 | I14: =+I15+I16 -> 23947.446
A15: Jistina | B15: =SUM(C15:I15) -> 26649.774 | C15: =+CZK!C15/EUR!$B$28 -> 97.889704 | D15: =+CZK!D15/EUR!$B$28 -> 199.01091 | E15: =+CZK!E15/EUR!$B$28 -> 446.62209 | F15: =+CZK!F15/EUR!$B$28 -> 250.77411 | G15: =+CZK!G15/EUR!$B$28 -> 1382.8631 | H15: =+CZK!H15/EUR!$B$28 -> 1013.7754 | I15: =+CZK!I15/EUR!$B$28 -> 23258.839
A16: Úroky | C16: =+CZK!C16/EUR!$B$28 -> 147.33214 | D16: =+CZK!D16/EUR!$B$28 -> 82.274037 | E16: =+CZK!E16/EUR!$B$28 -> 90.750908 | F16: =+CZK!F16/EUR!$B$28 -> 87.167865 | G16: =+CZK!G16/EUR!$B$28 -> 156.66639 | H16: =+CZK!H16/EUR!$B$28 -> 142.38079 | I16: =+CZK!I16/EUR!$B$28 -> 688.60709
A17: Ostatní sektory | C17: =+C18+C19 -> 1175.0355 | D17: =+D18+D19 -> 1146.0238 | E17: =+E18+E19 -> 923.44697 | F17: =+F18+F19 -> 220.73331 | G17: =+G18+G19 -> 2099.9222 | H17: =+H18+H19 -> 1139.5267 | I17: =+I18+I19 -> 24696.052
A18: Jistina | B18: =SUM(C18:I18) -> 27217.765 | C18: =+CZK!C18/EUR!$B$28 -> 1120.5785 | D18: =+CZK!D18/EUR!$B$28 -> 1097.3997 | E18: =+CZK!E18/EUR!$B$28 -> 867.6147 | F18: =+CZK!F18/EUR!$B$28 -> 181.45147 | G18: =+CZK!G18/EUR!$B$28 -> 1980.7572 | H18: =+CZK!H18/EUR!$B$28 -> 1028.0545 | I18: =+CZK!I18/EUR!$B$28 -> 20941.909
A19: Úroky* | C19: =+CZK!C19/EUR!$B$28 -> 54.456985 | D19: =+CZK!D19/EUR!$B$28 -> 48.624143 | E19: =+CZK!E19/EUR!$B$28 -> 55.832267 | F19: =+CZK!F19/EUR!$B$28 -> 39.281845 | G19: =+CZK!G19/EUR!$B$28 -> 119.16497 | H19: =+CZK!H19/EUR!$B$28 -> 111.47226 | I19: =+CZK!I19/EUR!$B$28 -> 3754.1427
A20: Přímé investice: půjčky | C20: =+C21+C22 -> 6454.233 | D20: =+D21+D22 -> 3474.4749 | E20: =+E21+E22 -> 1988.1053 | F20: =+F21+F22 -> 5253.5517 | G20: =+G21+G22 -> 2520.0422 | H20: =+H21+H22 -> 3757.8012 | I20: =+I21+I22 -> 11001.159
A21: Jistina | B21: =SUM(C21:I21) -> 31097.815 | C21: =+CZK!C21/EUR!$B$28 -> 6202.4916 | D21: =+CZK!D21/EUR!$B$28 -> 3045.2199 | E21: =+CZK!E21/EUR!$B$28 -> 1728.2747 | F21: =+CZK!F21/EUR!$B$28 -> 4841.9864 | G21: =+CZK!G21/EUR!$B$28 -> 2225.34 | H21: =+CZK!H21/EUR!$B$28 -> 3309.3562 | I21: =+CZK!I21/EUR!$B$28 -> 9745.1466
A22: Úroky | C22: =+CZK!C22/EUR!$B$28 -> 251.74142 | D22: =+CZK!D22/EUR!$B$28 -> 429.25508 | E22: =+CZK!E22/EUR!$B$28 -> 259.83061 | F22: =+CZK!F22/EUR!$B$28 -> 411.56528 | G22: =+CZK!G22/EUR!$B$28 -> 294.70215 | H22: =+CZK!H22/EUR!$B$28 -> 448.44497 | I22: =+CZK!I22/EUR!$B$28 -> 1256.0123
A23: Celková dluhová služba | C23: =+C24+C25 -> 7958.8429 | D23: =+D24+D25 -> 5099.9685 | E23: =+E24+E25 -> 4694.8252 | F23: =+F24+F25 -> 5884.9838 | G23: =+G24+G25 -> 11076.095 | H23: =+H24+H25 -> 6158.4785 | I23: =+I24+I25 -> 94820.189
A24: Jistina | B24: =SUM(C24:I24) -> 123593.56 | C24: =+C9+C12+C15+C18+C21 -> 7463.3028 | D24: =+D9+D12+D15+D18+D21 -> 4379.0992 | E24: =+E9+E12+E15+E18+E21 -> 4258.3104 | F24: =+F9+F12+F15+F18+F21 -> 5309.8678 | G24: =+G9+G12+G15+G18+G21 -> 10326.012 | H24: =+H9+H12+H15+H18+H21 -> 5392.1877 | I24: =+I9+I12+I15+I18+I21 -> 86464.782
A25: Úroky | C25: =+C22+C19+C16+C13+C10 -> 495.54008 | D25: =+D22+D19+D16+D13+D10 -> 720.86925 | E25: =+E22+E19+E16+E13+E10 -> 436.5148 | F25: =+F22+F19+F16+F13+F10 -> 575.11599 | G25: =+G22+G19+G16+G13+G10 -> 750.08292 | H25: =+H22+H19+H16+H13+H10 -> 766.29085 | I25: =+I22+I19+I16+I13+I10 -> 8355.407
A26: */ Úroky z dovozních úvěrů jsou zahrnuty ve splátkách jistiny.
A27: Pozn.: Součty nemusejí souhlasit z důvodů zaokrouhlení.
A28: EUR | B28: 24.26

Sheet USD
A1: ČESKÁ NÁRODNÍ BANKA
A2: Odbor makroekonomických statistik
A3: Dluhová služba ČR z dlouhodobé zadluženosti k 30.6.2026 podle sektorů
A7: (v mil. CZK ) | B7: stav k 30.6.2026 | C7: 0 až 3 M | D7: 3 až 6 M | E7: 6 až 9 M | F7: 9 až 12 M | G7: 12 až 18 M | H7: 18 až 24 M | I7: víc než 2 roky
A8: Vládní instituce | C8: =+C9+C10 -> 67.773148 | D8: =+D9+D10 -> 199.28051 | E8: =+E9+E10 -> 1393.404 | F8: =+F9+F10 -> 55.843469 | G8: =+G9+G10 -> 5548.323 | H8: =+H9+H10 -> 66.081644 | I8: =+I9+I10 -> 35979.07
A9: Jistina | B9: =SUM(C9:I9) -> 40130.995 | C9: =+CZK!C9/USD!$B$28 -> 48.256776 | D9: =+CZK!D9/USD!$B$28 -> 42.701792 | E9: =+CZK!E9/USD!$B$28 -> 1385.6007 | F9: =+CZK!F9/USD!$B$28 -> 40.635689 | G9: =+CZK!G9/USD!$B$28 -> 5398.6409 | H9: =+CZK!H9/USD!$B$28 -> 46.727905 | I9: =+CZK!I9/USD!$B$28 -> 33168.431
A10: Úroky | C10: =+CZK!C10/USD!$B$28 -> 19.516371 | D10: =+CZK!D10/USD!$B$28 -> 156.57872 | E10: =+CZK!E10/USD!$B$28 -> 7.8033302 | F10: =+CZK!F10/USD!$B$28 -> 15.207779 | G10: =+CZK!G10/USD!$B$28 -> 149.68213 | H10: =+CZK!H10/USD!$B$28 -> 19.353739 | I10: =+CZK!I10/USD!$B$28 -> 2810.6388
A11: Centrální banka | C11: =+C12+C13 -> 28.360338 | D11: =+D12+D13 -> 26.583305 | E11: =+E12+E13 -> 26.501668 | F11: =+F12+F13 -> 27.074843 | G11: =+G12+G13 -> 54.943643 | H11: =+H12+H13 -> 53.576512 | I11: =+I12+I13 -> 4109.1717
A12: Jistina | B12: =SUM(C12:I12) -> 3892.1313 | C12: =+CZK!C12/USD!$B$28 -> 0 | D12: =+CZK!D12/USD!$B$28 -> 0 | E12: =+CZK!E12/USD!$B$28 -> 0 | F12: =+CZK!F12/USD!$B$28 -> 0 | G12: =+CZK!G12/USD!$B$28 -> 0 | H12: =+CZK!H12/USD!$B$28 -> 0 | I12: =+CZK!I12/USD!$B$28 -> 3892.1313
A13: Úroky | C13: =+CZK!C13/USD!$B$28 -> 28.360338 | D13: =+CZK!D13/USD!$B$28 -> 26.583305 | E13: =+CZK!E13/USD!$B$28 -> 26.501668 | F13: =+CZK!F13/USD!$B$28 -> 27.074843 | G13: =+CZK!G13/USD!$B$28 -> 54.943643 | H13: =+CZK!H13/USD!$B$28 -> 53.576512 | I13: =+CZK!I13/USD!$B$28 -> 217.04031
A14: Obchodní banky | C14: =+C15+C16 -> 279.47018 | D14: =+D15+D16 -> 320.56997 | E14: =+E15+E16 -> 612.42396 | F14: =+F15+F16 -> 385.13986 | G14: =+G15+G16 -> 1754.5444 | H14: =+H15+H16 -> 1317.6281 | I14: =+I15+I16 -> 27292.011
A15: Jistina | B15: =SUM(C15:I15) -> 30371.754 | C15: =+CZK!C15/USD!$B$28 -> 111.56125 | D15: =+CZK!D15/USD!$B$28 -> 226.80531 | E15: =+CZK!E15/USD!$B$28 -> 508.99854 | F15: =+CZK!F15/USD!$B$28 -> 285.7979 | G15: =+CZK!G15/USD!$B$28 -> 1575.9975 | H15: =+CZK!H15/USD!$B$28 -> 1155.362 | I15: =+CZK!I15/USD!$B$28 -> 26507.231
A16: Úroky | C16: =+CZK!C16/USD!$B$28 -> 167.90894 | D16: =+CZK!D16/USD!$B$28 -> 93.764651 | E16: =+CZK!E16/USD!$B$28 -> 103.42543 | F16: =+CZK!F16/USD!$B$28 -> 99.341965 | G16: =+CZK!G16/USD!$B$28 -> 178.54684 | H16: =+CZK!H16/USD!$B$28 -> 162.26607 | I16: =+CZK!I16/USD!$B$28 -> 784.77982
A17: Ostatní sektory | C17: =+C18+C19 -> 1339.1441 | D17: =+D18+D19 -> 1306.0806 | E17: =+E18+E19 -> 1052.4181 | F17: =+F18+F19 -> 251.56152 | G17: =+G18+G19 -> 2393.203 | H17: =+H18+H19 -> 1298.6761 | I17: =+I18+I19 -> 28145.17
A18: Jistina | B18: =SUM(C18:I18) -> 31019.072 | C18: =+CZK!C18/USD!$B$28 -> 1277.0816 | D18: =+CZK!D18/USD!$B$28 -> 1250.6655 | E18: =+CZK!E18/USD!$B$28 -> 988.78811 | F18: =+CZK!F18/USD!$B$28 -> 206.79347 | G18: =+CZK!G18/USD!$B$28 -> 2257.3951 | H18: =+CZK!H18/USD!$B$28 -> 1171.6353 | I18: =+CZK!I18/USD!$B$28 -> 23866.713
A19: Úroky* | C19: =+CZK!C19/USD!$B$28 -> 62.062595 | D19: =+CZK!D19/USD!$B$28 -> 55.415122 | E19: =+CZK!E19/USD!$B$28 -> 63.629953 | F19: =+CZK!F19/USD!$B$28 -> 44.768053 | G19: =+CZK!G19/USD!$B$28 -> 135.80787 | H19: =+CZK!H19/USD!$B$28 -> 127.04078 | I19: =+CZK!I19/USD!$B$28 -> 4278.4564
A20: Přímé investice: půjčky | C20: =+C21+C22 -> 7355.6486 | D20: =+D21+D22 -> 3959.7295 | E20: =+E21+E22 -> 2265.7695 | F20: =+F21+F22 -> 5987.2769 | G20: =+G21+G22 -> 2871.9981 | H20: =+H21+H22 -> 4282.6259 | I20: =+I21+I22 -> 12537.611
A21: Jistina | B21: =SUM(C21:I21) -> 35441.02 | C21: =+CZK!C21/USD!$B$28 -> 7068.7483 | D21: =+CZK!D21/USD!$B$28 -> 3470.5235 | E21: =+CZK!E21/USD!$B$28 -> 1969.6502 | F21: =+CZK!F21/USD!$B$28 -> 5518.2313 | G21: =+CZK!G21/USD!$B$28 -> 2536.137 | H21: =+CZK!H21/USD!$B$28 -> 3771.5499 | I21: =+CZK!I21/USD!$B$28 -> 11106.18
A22: Úroky | C22: =+CZK!C22/USD!$B$28 -> 286.90031 | D22: =+CZK!D22/USD!$B$28 -> 489.20601 | E22: =+CZK!E22/USD!$B$28 -> 296.11926 | F22: =+CZK!F22/USD!$B$28 -> 469.0456 | G22: =+CZK!G22/USD!$B$28 -> 335.86105 | H22: =+CZK!H22/USD!$B$28 -> 511.07601 | I22: =+CZK!I22/USD!$B$28 -> 1431.4304
A23: Celková dluhová služba | C23: =+C24+C25 -> 9070.3964 | D23: =+D24+D25 -> 5812.2439 | E23: =+E24+E25 -> 5350.5172 | F23: =+F24+F25 -> 6706.8966 | G23: =+G24+G25 -> 12623.012 | H23: =+H24+H25 -> 7018.5883 | I23: =+I24+I25 -> 108063.03
A24: Jistina | B24: =SUM(C24:I24) -> 140854.97 | C24: =+C9+C12+C15+C18+C21 -> 8505.6479 | D24: =+D9+D12+D15+D18+D21 -> 4990.6961 | E24: =+E9+E12+E15+E18+E21 -> 4853.0376 | F24: =+F9+F12+F15+F18+F21 -> 6051.4583 | G24: =+G9+G12+G15+G18+G21 -> 11768.171 | H24: =+H9+H12+H15+H18+H21 -> 6145.2752 | I24: =+I9+I12+I15+I18+I21 -> 98540.687
A25: Úroky | C25: =+C22+C19+C16+C13+C10 -> 564.74855 | D25: =+D22+D19+D16+D13+D10 -> 821.5478 | E25: =+E22+E19+E16+E13+E10 -> 497.47964 | F25: =+F22+F19+F16+F13+F10 -> 655.43825 | G25: =+G22+G19+G16+G13+G10 -> 854.84153 | H25: =+H22+H19+H16+H13+H10 -> 873.31311 | I25: =+I22+I19+I16+I13+I10 -> 9522.3457
A26: */ Úroky z dovozních úvěrů jsou zahrnuty ve splátkách jistiny.
A27: Pozn.: Součty nemusejí souhlasit z důvodů zaokrouhlení.
A28: USD | B28: 21.287
